BEGIN:VCALENDAR
VERSION:2.0
PRODID:-//ChamberMaster//Event Calendar 2.0//EN
METHOD:PUBLISH
X-PUBLISHED-TTL:P3D
REFRESH-INTERVAL:P3D
CALSCALE:GREGORIAN
BEGIN:VEVENT
DTSTART:20251126T000000Z
DTEND:20251126T020000Z
X-MICROSOFT-CDO-ALLDAYEVENT:FALSE
SUMMARY:La Cucina di Suor Gabriella – Sister’s Kitchen (Italian Cooking Classes)
DESCRIPTION:La Cucina di Suor Gabriella   Sister's Kitchen \n\n\n\nItalian Cooking Classes  Learn how to bring the flavors of Italy to your kitchen by enrolling in La Cucina di Suor Gabriella\, our Italian Cooking Classes. The classes will run 7-9 p.m. on Tuesdays Nov. 4-25 at our Lowell campus\, 11650 Downes St. NE. Executive Director Sister Gabriella Pettirossi\, FSE\, born and raised in Assisi\, Italy\, will teach and share her secrets to making authentic Italian cuisine. \n\n \n\nParticipants can sign up for one\, a few or all the classes. Each class can have up to eight participants and costs $75 per person. Sign up online at weblink.donorperfect.com/SistersKitchen or by calling 616-897-7842. \n\n \n\nClass Schedule \n\n          Nov. 4   Antipasti: Hors d'oeuvres. \n\n          Nov. 11   Primi Piatti: Fresh pasta dishes with homemade pasta. \n\n          Nov. 18    Piatti Forti: Traditional Italian meat entr es. \n\n          Nov. 25   Pasticceria: Classic Italian desserts.
X-ALT-DESC;FMTTYPE=text/html:<strong><span style="color:#212121">La Cucina di Suor Gabriella &ndash\; <em>Sister&rsquo\;s Kitchen</em>&nbsp\;</span></strong><br />\n<br />\n<strong>Italian Cooking Classes&nbsp\;</strong><span style="color:#212121">&nbsp\;Learn how to bring the flavors of Italy to your kitchen by enrolling in La Cucina di Suor Gabriella\, our Italian Cooking Classes. The classes will run 7-9 p.m. on Tuesdays Nov. 4-25 at our Lowell campus\, 11650 Downes St. NE. <strong>Executive Director Sister Gabriella Pettirossi</strong>\, FSE\, born and raised in Assisi\, Italy\, will teach and share her secrets to making authentic Italian cuisine.&nbsp\;</span><br />\n&nbsp\;<br />\n<span style="color:#212121">Participants can sign up for one\, a few or all the classes. Each class can have up to eight participants and costs $75 per person. Sign up online at </span><strong><span style="color:#1191FA"><a href="http://weblink.donorperfect.com/SistersKitchen" target="_blank" title="Original URL: http://weblink.donorperfect.com/SistersKitchen. Click or tap if you trust this link."><span style="color:#1191FA">weblink.donorperfect.com/SistersKitchen</span></a></span></strong><span style="color:#212121"> or by calling 616-897-7842.&nbsp\;</span><br />\n&nbsp\;<br />\n<strong><span style="color:#212121">Class Schedule</span></strong>&nbsp\;<br />\n<span style="color:#242424"><span style="font-family:symbol"><span style="font-size:10.0pt">&middot\;</span></span></span>&nbsp\;&nbsp\;&nbsp\;&nbsp\;&nbsp\;&nbsp\;&nbsp\;&nbsp\; <strong><span style="color:#212121">Nov. 4</span></strong><span style="color:#212121"> &ndash\; Antipasti: Hors d&rsquo\;oeuvres.&nbsp\;</span><br />\n<span style="color:#242424"><span style="font-family:symbol"><span style="font-size:10.0pt">&middot\;</span></span></span>&nbsp\;&nbsp\;&nbsp\;&nbsp\;&nbsp\;&nbsp\;&nbsp\;&nbsp\; <strong><span style="color:#212121">Nov. 11</span></strong><span style="color:#212121"> &ndash\; Primi Piatti: Fresh pasta dishes with homemade pasta.&nbsp\;</span><br />\n<span style="color:#242424"><span style="font-family:symbol"><span style="font-size:10.0pt">&middot\;</span></span></span>&nbsp\;&nbsp\;&nbsp\;&nbsp\;&nbsp\;&nbsp\;&nbsp\;&nbsp\; <strong><span style="color:#212121">Nov. 18</span></strong><span style="color:#212121"> &ndash\;&nbsp\; Piatti Forti: Traditional Italian meat entr&eacute\;es.&nbsp\;</span><br />\n<span style="color:#242424"><span style="font-family:symbol"><span style="font-size:10.0pt">&middot\;</span></span></span>&nbsp\;&nbsp\;&nbsp\;&nbsp\;&nbsp\;&nbsp\;&nbsp\;&nbsp\; <strong><span style="color:#212121">Nov. 25</span></strong><span style="color:#212121"> &ndash\; Pasticceria: Classic Italian desserts.&nbsp\;</span>
LOCATION:Franciscan Life Process Center 11650 Downes St. NE Lowell\, MI 49331
UID:e.1717.2279
SEQUENCE:3
DTSTAMP:20260420T013913Z
URL:https://business.lowellchamber.org/events/details/la-cucina-di-suor-gabriella-sister-s-kitchen-italian-cooking-classes-11-25-2025-2279
END:VEVENT

END:VCALENDAR
